BEGIN:VCALENDAR
VERSION:2.0
PRODID:-//Lubojaty | oficiální web obce Lubojaty - ECPv6.15.20//NONSGML v1.0//EN
CALSCALE:GREGORIAN
METHOD:PUBLISH
X-ORIGINAL-URL:https://obec-lubojaty.cz
X-WR-CALDESC:Akce na Lubojaty | oficiální web obce Lubojaty
REFRESH-INTERVAL;VALUE=DURATION:PT1H
X-Robots-Tag:noindex
X-PUBLISHED-TTL:PT1H
BEGIN:VTIMEZONE
TZID:Europe/Paris
BEGIN:DAYLIGHT
TZOFFSETFROM:+0100
TZOFFSETTO:+0200
TZNAME:CEST
DTSTART:20230326T010000
END:DAYLIGHT
BEGIN:STANDARD
TZOFFSETFROM:+0200
TZOFFSETTO:+0100
TZNAME:CET
DTSTART:20231029T010000
END:STANDARD
BEGIN:DAYLIGHT
TZOFFSETFROM:+0100
TZOFFSETTO:+0200
TZNAME:CEST
DTSTART:20240331T010000
END:DAYLIGHT
BEGIN:STANDARD
TZOFFSETFROM:+0200
TZOFFSETTO:+0100
TZNAME:CET
DTSTART:20241027T010000
END:STANDARD
BEGIN:DAYLIGHT
TZOFFSETFROM:+0100
TZOFFSETTO:+0200
TZNAME:CEST
DTSTART:20250330T010000
END:DAYLIGHT
BEGIN:STANDARD
TZOFFSETFROM:+0200
TZOFFSETTO:+0100
TZNAME:CET
DTSTART:20251026T010000
END:STANDARD
BEGIN:DAYLIGHT
TZOFFSETFROM:+0100
TZOFFSETTO:+0200
TZNAME:CEST
DTSTART:20260329T010000
END:DAYLIGHT
BEGIN:STANDARD
TZOFFSETFROM:+0200
TZOFFSETTO:+0100
TZNAME:CET
DTSTART:20261025T010000
END:STANDARD
END:VTIMEZONE
BEGIN:VTIMEZONE
TZID:Europe/Helsinki
BEGIN:DAYLIGHT
TZOFFSETFROM:+0200
TZOFFSETTO:+0300
TZNAME:EEST
DTSTART:20230326T010000
END:DAYLIGHT
BEGIN:STANDARD
TZOFFSETFROM:+0300
TZOFFSETTO:+0200
TZNAME:EET
DTSTART:20231029T010000
END:STANDARD
BEGIN:DAYLIGHT
TZOFFSETFROM:+0200
TZOFFSETTO:+0300
TZNAME:EEST
DTSTART:20240331T010000
END:DAYLIGHT
BEGIN:STANDARD
TZOFFSETFROM:+0300
TZOFFSETTO:+0200
TZNAME:EET
DTSTART:20241027T010000
END:STANDARD
BEGIN:DAYLIGHT
TZOFFSETFROM:+0200
TZOFFSETTO:+0300
TZNAME:EEST
DTSTART:20250330T010000
END:DAYLIGHT
BEGIN:STANDARD
TZOFFSETFROM:+0300
TZOFFSETTO:+0200
TZNAME:EET
DTSTART:20251026T010000
END:STANDARD
END:VTIMEZONE
BEGIN:VEVENT
DTSTART;TZID=Europe/Paris:20251017T163000
DTEND;TZID=Europe/Paris:20251017T170000
DTSTAMP:20260419T213339
CREATED:20251013T075015Z
LAST-MODIFIED:20251013T075203Z
UID:1097-1760718600-1760720400@obec-lubojaty.cz
SUMMARY:Le Tour de Lubojaty
DESCRIPTION:Srdečně Vás zveme na tradiční závod Le Tour de Lubojaty – závod pro malé cyklisty v několika kategoriích. \n\n\n\nTrasa: kolem školy k hasičárně \n\n\n\nStart: u autoservisu na Klinkách \n\n\n\nCyklistická helma povinná! \n\n\n\nPodpořte své cyklistické naděje a přijďte fandit! \n\n\n\nAkce se koná jen za příznivého počasí (info v den konání na IG a v rozhlase). Každý\, kdo dojede do cíle\, bude odměněn. Medaile pro nejlepší!
URL:https://obec-lubojaty.cz/akce/le-tour-de-lubojaty/
LOCATION:Autoservis Lubojaty\, Lubojaty 66\, Lubojaty\, 74292\, Czech Republic
ATTACH;FMTTYPE=image/jpeg:https://obec-lubojaty.cz/wp-content/uploads/2025/10/pexels-photo-6209856-6209856.avif
END:VEVENT
BEGIN:VEVENT
DTSTART;TZID=Europe/Paris:20250928T140000
DTEND;TZID=Europe/Paris:20250928T140000
DTSTAMP:20260419T213339
CREATED:20250915T062840Z
LAST-MODIFIED:20250915T063033Z
UID:1058-1759068000-1759068000@obec-lubojaty.cz
SUMMARY:Jak chutná podzim
DESCRIPTION:JAK CHUTNÁ PODZIM | 28. září 2025 od 14 hodin v klubovně zahrádkářů v Lubojatech \n\n\n\nDovolujeme si vás pozvat na výstavu květin\, ovoce a zeleniny z našich zahrádek a obrázků dětí ze ZŠ a MŠ Lubojaty. \n\n\n\nOBČERSTVENÍ: červený a bílý burčák\, nedělní koláče \n\n\n\nRETRO VÝSTAVA \n\n\n\nSvé výpěstky a věci z 80. let můžete přinést v sobotu 27. září od 16 do 18 hodin.
URL:https://obec-lubojaty.cz/akce/jak-chutna-podzim/
LOCATION:Klubovna zahrádkářů\, Lubojaty 1\, Lubojaty\, 74292\, Czech Republic
ATTACH;FMTTYPE=image/jpeg:https://obec-lubojaty.cz/wp-content/uploads/2025/09/jakchutnapodzim.avif
END:VEVENT
BEGIN:VEVENT
DTSTART;TZID=Europe/Paris:20250809T150000
DTEND;TZID=Europe/Paris:20250809T220000
DTSTAMP:20260419T213339
CREATED:20250630T065958Z
LAST-MODIFIED:20250630T070104Z
UID:1026-1754751600-1754776800@obec-lubojaty.cz
SUMMARY:Půlení léta 2025
DESCRIPTION:Český zahrádkářská svazu Lubojaty pořádá PŮLENÍ LÉTA 2025. \n\n\n\n9. srpna 2025 od 15 hodin v areálu klubovny zahrádkářů\n\n\n\nTěšit se můžete na: \n\n\n\n\nuzené makrely a klobásky\n\n\n\njízdu na ponících pro děti\n\n\n\nzábavné hry a soutěže\n\n\n\npivní speciály
URL:https://obec-lubojaty.cz/akce/puleni-leta-2025/
LOCATION:Areál klubovny zahrádkářů\, Lubojaty\, 742 92\, Czech Republic
ATTACH;FMTTYPE=image/png:https://obec-lubojaty.cz/wp-content/uploads/2025/06/puleni_leta_2025_nahled.webp
END:VEVENT
BEGIN:VEVENT
DTSTART;TZID=Europe/Paris:20250621T140000
DTEND;TZID=Europe/Paris:20250621T235900
DTSTAMP:20260419T213339
CREATED:20250609T131844Z
LAST-MODIFIED:20250609T131849Z
UID:989-1750514400-1750550340@obec-lubojaty.cz
SUMMARY:Den obce Tísek 2025
DESCRIPTION:Den obce Tísek 2025 se uskuteční v sobotu 21. 6. 2025 na fotbalovém hřišti. \n\n\n\nHUDEBNÍ SCÉNA15:00–16:00 Cimbálová muzika sourozenců Osičkových18:30–20:00 Kapela BHP21:00–23:00 Kapela URAN23:00–02:00 DJ Luděk „Savana“ Urbánek \n\n\n\nDOPROVODNÝ PROGRAM14:00–15:00 Vystoupení dětí ze ZŠ a MŠ Tísek15:00–17:00 Klauni z Balónkova15:45–16:15 Kouzelník17:15–18:00 Veselé zpívánky19:00–19:30 Losování tomboly \n\n\n\nATRAKCE PRO DĚTIMobilní planetárium s tvořivou dílnouSoutěže o cenySkákací hradKolotoč \n\n\n\nNEBUDE CHYBĚTMíchané nápoje a výběrová kávaAlkoholické i nealkoholické nápojeRybí\, zvěřinové a jiné specialityTaxi bus ze středu obceDobrovolné slosovatelné vstupné
URL:https://obec-lubojaty.cz/akce/den-obce-tisek-2025/
LOCATION:Hřiště fotbalového klubu\, Tísek\, Tísek 12\, Tísek\, 743 01\, Czech Republic
ATTACH;FMTTYPE=image/jpeg:https://obec-lubojaty.cz/wp-content/uploads/2025/06/den_obce_tisek_nahled.webp
END:VEVENT
BEGIN:VEVENT
DTSTART;TZID=Europe/Paris:20250607T140000
DTEND;TZID=Europe/Paris:20250607T180000
DTSTAMP:20260419T213339
CREATED:20250526T090913Z
LAST-MODIFIED:20250526T091041Z
UID:955-1749304800-1749319200@obec-lubojaty.cz
SUMMARY:Sportovní den pro děti
DESCRIPTION:ZŠ a MŠ Lubojaty a obec Bítov pořádají SPORTOVNÍ DEN PRO DĚTI v sobotu 7. 6. 2025 od 14 hodin na hřišti v Bítově. \n\n\n\nPROGRAM: \n\n\n\n\nzábavné hry pro děti a rodiče\n\n\n\nskákací hrad se skluzavkou\n\n\n\nobčerstvení – cukrářský krámek a další dobroty…\n\n\n\n\nTěšíme se na Vás.
URL:https://obec-lubojaty.cz/akce/sportovni-den-pro-deti/
LOCATION:hřiště Bítov\, Bítov\, 74301\, Czech Republic
ATTACH;FMTTYPE=image/jpeg:https://obec-lubojaty.cz/wp-content/uploads/2025/05/sportovni_den_deti_nahled.webp
END:VEVENT
BEGIN:VEVENT
DTSTART;TZID=Europe/Paris:20250605T083000
DTEND;TZID=Europe/Paris:20250605T130000
DTSTAMP:20260419T213339
CREATED:20250526T103816Z
LAST-MODIFIED:20250526T103818Z
UID:975-1749112200-1749128400@obec-lubojaty.cz
SUMMARY:Sportovní den pro školy a školky
DESCRIPTION:Nábor sportovců 2025 – pojďte s námi sportovat! \n\n\n\nVe čtvrtek 5. 6. 2025 od 8:30 na fotbalovém hřišti v Bílovci (za nepříznivého počasí v hale ZŠ Komenského). \n\n\n\nTěšit se můžete na dopolední aktivity pro děti a odměnu pro každého účastníka. \n\n\n\nVíce informací o SŠK Bílovec na webu: https://www.sskbilovec.cz/.
URL:https://obec-lubojaty.cz/akce/sportovni-den-pro-skoly-a-skolky/
LOCATION:fotbalové hřiště Bílovec\, Ostravská 363/17\, Bílovec\, 743 01\, Czech Republic
ATTACH;FMTTYPE=image/jpeg:https://obec-lubojaty.cz/wp-content/uploads/2025/05/naborsportovcu_nahled.webp
END:VEVENT
BEGIN:VEVENT
DTSTART;TZID=Europe/Paris:20250531T160000
DTEND;TZID=Europe/Paris:20250531T210000
DTSTAMP:20260419T213339
CREATED:20250523T063100Z
LAST-MODIFIED:20250523T063213Z
UID:950-1748707200-1748725200@obec-lubojaty.cz
SUMMARY:Vaječina a kácení máje
DESCRIPTION:Vaječina a kácení máje – program: \n\n\n\n\nsoutěž o řezání dřeva\n\n\n\nvečerní opékání buřtů s kytarou\n\n\n\nsoutěž o nejlepší buchtu\n\n\n\n\nVstupné dobrovolné (výtěžek bude darován farnímu společenství na kostel sv. Jiří v Lubojatech).
URL:https://obec-lubojaty.cz/akce/vajecina-a-kaceni-maje/
LOCATION:hasičská zbrojnice Lubojaty\, Lubojaty 35\, 742 92
ATTACH;FMTTYPE=image/jpeg:https://obec-lubojaty.cz/wp-content/uploads/2025/05/vajecina_kaceni_maje_nahled.webp
END:VEVENT
BEGIN:VEVENT
DTSTART;TZID=Europe/Paris:20250523T180000
DTEND;TZID=Europe/Paris:20250523T220000
DTSTAMP:20260419T213339
CREATED:20250513T083107Z
LAST-MODIFIED:20250513T084157Z
UID:940-1748023200-1748037600@obec-lubojaty.cz
SUMMARY:Noc kostelů 2025
DESCRIPTION:Noc kostelů 2025 – program v kostele sv. Jiří v Lubojatech\n\n\n\n18:00–22:00 otevřeno\, možnost návštěvy18:00 přivítání\, hymna jubilejního 2025 „Poutníci naděje“\, možnost prohlídky kostela a věže s renesančním zvonem18:30 chvilka s hudbou Chrámového sboru sv. Jiří z Lubojat a projekcí19:00 okénko dětí z MŠ a ZŠ Lubojaty\, příběh „Na arše v šest“19:30 interaktivní program pro děti\, vyrábění symbolu naděje20:00 Stezka naděje pro děti a rodiče20:30 možnost prohlídky kostela a věže21:00 adorace s hudebním doprovodem22:00 zakončení
URL:https://obec-lubojaty.cz/akce/noc-kostelu-2025/
LOCATION:Kostel sv. Jiří\, Lubojaty\, Lubojaty\, 742 92\, Czech Republic
ATTACH;FMTTYPE=image/jpeg:https://obec-lubojaty.cz/wp-content/uploads/2025/05/nockostelu25.webp
END:VEVENT
BEGIN:VEVENT
DTSTART;TZID=Europe/Paris:20250517T190000
DTEND;TZID=Europe/Paris:20250517T210000
DTSTAMP:20260419T213339
CREATED:20250505T133052Z
LAST-MODIFIED:20250505T133345Z
UID:930-1747508400-1747515600@obec-lubojaty.cz
SUMMARY:Čarodějný bál
DESCRIPTION:O představení: \n\n\n\nDivadelní hra Čarodějný bál je veselá pohádka o sedmi obrazech. Odvážná princezna Andulka se rozhodne vysvobodit prince Valentýna ze spárů čarodějnic. V průběhu její cesty se seznámí s Blaženkou\, která ji s vysvobozením prince pomáhá. Podle všeho totiž čarodějnice uvěznily i jejího kamaráda Prokopa. \n\n\n\nO souboru:\n\n\n\nDivadelní přehlídka Těškovické jaro oslaví letos v Těškovicích již 68. ročník. Jde o dlouholetou tradici\, kterou spoluorganizuje těškovický divadelní soubor Berani. Ti své působení v obci zahájili již v roce 1949 a v současnosti sklízí za svá představení uznání nejen ze strany diváků\, ale i odborné kritiky. S nastudovaným představením vystupují v mnoha okolních obcích i městech a také zajíždí do družebních Borovan u Českých Budějovic a Humpolce. Svým vystoupením v podobě scének\, tanečního či hudebního vystoupení obohacují také kulturní program Dne obce Těškovice či folklorního festivalu Třebovický koláč. \n\n\n\nAutor: Dagmar JandováRežie: Ivan Lindovský\, Jindra RežnáHrají: Stela Jedličková / Alexandra Řeháčková / Vilém Krayzel / Matěj Krayzel / MatyášNosek / Vendula Vavrošová / Sofie Pětvaldská / Kristýna Kupková / Ema Hahnová /Markéta Nohlová / Dorota Doleželová / Magdaléna Kupková / Rozálie Doleželová / SáraŠtefková / Agáta Nosková / Laura Mlynarčíková / Eva Šindlářová / Radan SrokaDélka představení: 110 min. vč. 20 min. přestávky
URL:https://obec-lubojaty.cz/akce/carodejny-bal/
LOCATION:Kulturní dům Těškovice\, Těškovice 49\, Těškovice\, 747 64\, Czech Republic
ATTACH;FMTTYPE=image/webp:https://obec-lubojaty.cz/wp-content/uploads/2025/05/carodejnybal.webp
END:VEVENT
BEGIN:VEVENT
DTSTART;TZID=Europe/Paris:20250516T180000
DTEND;TZID=Europe/Paris:20250516T200000
DTSTAMP:20260419T213339
CREATED:20250505T132536Z
LAST-MODIFIED:20250505T132903Z
UID:923-1747418400-1747425600@obec-lubojaty.cz
SUMMARY:Čarodějný bál – předpremiéra
DESCRIPTION:Divadelní hra Čarodějný bál – předpremiéra je veselá pohádka o sedmi obrazech. Odvážná princezna Andulka se rozhodne vysvobodit prince Valentýna ze spárů čarodějnic. V průběhu její cesty se seznámí s Blaženkou\, která ji s vysvobozením prince pomáhá. Podle všeho totiž čarodějnice uvěznily i jejího kamaráda Prokopa. \n\n\n\nVstupenky je možné rezervovat u pana Daniela Sedláka na telefonním čísle +420 737 418 224.
URL:https://obec-lubojaty.cz/akce/carodejny-bal-predpremiera/
LOCATION:Kulturní dům Těškovice\, Těškovice 49\, Těškovice\, 747 64\, Czech Republic
ATTACH;FMTTYPE=image/webp:https://obec-lubojaty.cz/wp-content/uploads/2025/05/carodejnybal.webp
END:VEVENT
BEGIN:VEVENT
DTSTART;TZID=Europe/Paris:20250503T080000
DTEND;TZID=Europe/Paris:20250503T170000
DTSTAMP:20260419T213339
CREATED:20250319T082148Z
LAST-MODIFIED:20250319T082151Z
UID:880-1746259200-1746291600@obec-lubojaty.cz
SUMMARY:Zájezd na zahrádkářskou výstavu do Rožnova p. R.
DESCRIPTION:ČSZ Lubojaty pořádá zájezd na zahrádkářskou výstavu do Rožnova p. R. v sobotu 3. května 2025. \n\n\n\nOdjezd z Lubojat od bílovecké zastávky v 8:00. \n\n\n\nOd 13:30 program v Kunčicích pod Ondřejníkem – exkurze v pivovaru Ogar s degustací za 250 Kč\, posezení v pivovaru\, návštěva lázní Čeladná. \n\n\n\nPlatba: 150 Kč (v ceně je doprava autobusem)Vstupné na Rožnovskou zahradu: 90 Kč dospělí | 60 Kč důchodci 65+ \n\n\n\nPřihlásit se můžete u p. A. Seidlerové\, p. Z. Neisarové a ve škole v Lubojatech.
URL:https://obec-lubojaty.cz/akce/zajezd-na-zahradkarskou-vystavu-do-roznova-p-r/
LOCATION:Rožnovská zahrada\, Pod Strání 2268\, Rožnov pod Radhoštěm\, 756 61\, Czech Republic
ATTACH;FMTTYPE=image/jpeg:https://obec-lubojaty.cz/wp-content/uploads/2025/03/zajezd_vystava_Roznov_p._R._nahled.webp
END:VEVENT
BEGIN:VEVENT
DTSTART;TZID=Europe/Paris:20250430T170000
DTEND;TZID=Europe/Paris:20250430T220000
DTSTAMP:20260419T213339
CREATED:20250422T092101Z
LAST-MODIFIED:20250422T092104Z
UID:918-1746032400-1746050400@obec-lubojaty.cz
SUMMARY:Pálení čarodějnic a stavění máje
DESCRIPTION:SDH Lubojaty pořádají PÁLENÍ ČARODĚJNIC a STAVĚNÍ MÁJE: \n\n\n\n\nstředa 30. dubna 2025 od 17:00 v hasičárně
URL:https://obec-lubojaty.cz/akce/paleni-carodejnic-a-staveni-maje/
LOCATION:hasičská zbrojnice Lubojaty\, Lubojaty 35\, 742 92
ATTACH;FMTTYPE=image/jpeg:https://obec-lubojaty.cz/wp-content/uploads/2025/04/carodejnice_nahled.webp
END:VEVENT
BEGIN:VEVENT
DTSTART;TZID=Europe/Paris:20250414T170000
DTEND;TZID=Europe/Paris:20250414T190000
DTSTAMP:20260419T213339
CREATED:20250304T080018Z
LAST-MODIFIED:20250304T080231Z
UID:846-1744650000-1744657200@obec-lubojaty.cz
SUMMARY:Veřejná schůze s vedením města
DESCRIPTION:V pondělí 14. dubna 2025 se v 17 hodin v budově školy uskuteční veřejná schůze občanů s vedením města Bílovec.
URL:https://obec-lubojaty.cz/akce/verejna-schuze-s-vedenim-mesta/
LOCATION:ZŠ Lubojaty\, č. p. 88\, Lubojaty\, 742 92
ATTACH;FMTTYPE=image/jpeg:https://obec-lubojaty.cz/wp-content/uploads/2025/03/schuzenahled.webp
END:VEVENT
BEGIN:VEVENT
DTSTART;TZID=Europe/Paris:20250414T150000
DTEND;TZID=Europe/Paris:20250414T170000
DTSTAMP:20260419T213339
CREATED:20250408T063227Z
LAST-MODIFIED:20250408T063503Z
UID:904-1744642800-1744650000@obec-lubojaty.cz
SUMMARY:Velikonoční tvoření
DESCRIPTION:Osadní výbor Lubojaty a Klub Slunečnice ve spolupráci se ZŠ Lubojaty pořádají \n\n\n\nVELIKONOČNÍ TVOŘENÍ: pondělí 14. dubna 2025\, 15:00–17:00\, ZŠ Lubojaty\n\n\n\nPřijďte si s námi pro potěšení vytvořit originální velikonoční dekorace\, výrobky darovala Papírna Lubojaty.  \n\n\n\nS sebou: dobrou náladu\, nůžky. \n\n\n\nPro děti\, rodiče i prarodiče.
URL:https://obec-lubojaty.cz/akce/velikonocni-tvoreni/
LOCATION:ZŠ Lubojaty\, č. p. 88\, Lubojaty\, 742 92
ATTACH;FMTTYPE=image/jpeg:https://obec-lubojaty.cz/wp-content/uploads/2025/04/velikonocni_tvoreni_nahled.webp
END:VEVENT
BEGIN:VEVENT
DTSTART;TZID=Europe/Paris:20250315T170000
DTEND;TZID=Europe/Paris:20250315T220000
DTSTAMP:20260419T213339
CREATED:20250310T073514Z
LAST-MODIFIED:20250310T073702Z
UID:862-1742058000-1742076000@obec-lubojaty.cz
SUMMARY:Zvěřinové hody
DESCRIPTION:Sbor dobrovolných hasičů Lubojaty Vás srdečně zve na ZVĚŘINOVÉ HODY v sobotu 15. 3. 2025 v 17 hodin v místní hasičárně.
URL:https://obec-lubojaty.cz/akce/zverinove-hody/
LOCATION:hasičská zbrojnice Lubojaty\, Lubojaty 35\, 742 92
ATTACH;FMTTYPE=image/png:https://obec-lubojaty.cz/wp-content/uploads/2025/03/zverinove_hody_nahled-png.webp
END:VEVENT
BEGIN:VEVENT
DTSTART;TZID=Europe/Paris:20250304T000000
DTEND;TZID=Europe/Paris:20250304T235959
DTSTAMP:20260419T213339
CREATED:20250220T141617Z
LAST-MODIFIED:20250223T192002Z
UID:823-1741046400-1741132799@obec-lubojaty.cz
SUMMARY:Masopustní karneval
DESCRIPTION:ZŠ a MŠ Lubojaty pořádají v úterý 4. března 2025 pro děti ve škole a školce MASOPUSTNÍ KARNEVAL. \n\n\n\nKarnevalové masky vítány!
URL:https://obec-lubojaty.cz/akce/masopustni-karneval/
LOCATION:ZŠ a MŠ Lubojaty\, č. p. 88\, Lubojaty\, 742 92
ATTACH;FMTTYPE=image/jpeg:https://obec-lubojaty.cz/wp-content/uploads/2025/02/karneval_nahled.webp
END:VEVENT
BEGIN:VEVENT
DTSTART;TZID=Europe/Paris:20250222T193000
DTEND;TZID=Europe/Paris:20250222T235900
DTSTAMP:20260419T213339
CREATED:20250120T074300Z
LAST-MODIFIED:20250120T075034Z
UID:798-1740252600-1740268740@obec-lubojaty.cz
SUMMARY:Společenský ples 2025
DESCRIPTION:Spolek nezávislých a Sbor dobrovolných hasičů Lubojaty Vás srdečně zvou na SPOLEČENSKÝ PLES 2025. \n\n\n\nv sobotu 22. února 2025 v 19:30\, Kulturní dům Tísek\n\n\n\nBohatá tombola\, fotokoutek\, vystoupení – překvapení večera. \n\n\n\nK tanci a poslechu hraje kapela H.S.P. \n\n\n\nvstupné: 300 Kčs večeří: 390 Kč \n\n\n\nPředprodej vstupenek – 8. 2. 2025 v 18:00 v hasičárně. \n\n\n\nAutobus zajištěn.
URL:https://obec-lubojaty.cz/akce/spolecensky-ples-2025/
LOCATION:Kulturní dům Tísek\, Tísek 50\, Tísek\, 743 01\, Czech Republic
ATTACH;FMTTYPE=image/jpeg:https://obec-lubojaty.cz/wp-content/uploads/2025/01/ples_2025_nahled.webp
END:VEVENT
BEGIN:VEVENT
DTSTART;TZID=Europe/Paris:20250130T170000
DTEND;TZID=Europe/Paris:20250130T170000
DTSTAMP:20260419T213339
CREATED:20250113T144011Z
LAST-MODIFIED:20250113T144636Z
UID:776-1738256400-1738256400@obec-lubojaty.cz
SUMMARY:Deskohraní v Bítově
DESCRIPTION:Deskoherní klub Bítov vás zve na večery plné zábavy s deskovými hrami. Přijďte si zahrát své oblíbené hry nebo vyzkoušejte některé z našich\, jako jsou Carcassonne\, Talisman nebo Jízdenky\, prosím. \n\n\n\nAkce je určena pro všechny od 9 do 99 let a koná se 16. a 30. ledna od 17 hodin ve Velkém sále Obecního domu v Bítově.
URL:https://obec-lubojaty.cz/akce/deskohrani-v-bitove-2/
ATTACH;FMTTYPE=image/jpeg:https://obec-lubojaty.cz/wp-content/uploads/2025/01/deskohrani_bitov.webp
END:VEVENT
BEGIN:VEVENT
DTSTART;TZID=Europe/Paris:20250118T160000
DTEND;TZID=Europe/Paris:20250118T180000
DTSTAMP:20260419T213339
CREATED:20250113T145812Z
LAST-MODIFIED:20250113T150318Z
UID:781-1737216000-1737223200@obec-lubojaty.cz
SUMMARY:Přednáška: Chirurgem v Kazachstánu
DESCRIPTION:V sobotu 18. ledna 2025 se v Obecním domě v Bítově uskuteční přednáška s názvem Chirurgem v Kazachstánu. Akce začíná v 16 hodin a nabídne posluchačům příležitost vyslechnout si fascinující příběhy a zkušenosti lékaře\, který působil v Kazachstánu. Těšíme se na vaši účast. \n\n\n\n\n\n\n\n\nsobota 18. ledna 2025\n\n\n\nObecní dům Bítov\, č. p. 61\n\n\n\n16:00
URL:https://obec-lubojaty.cz/akce/prednaska-chirurgem-v-kazachstanu/
ATTACH;FMTTYPE=image/jpeg:https://obec-lubojaty.cz/wp-content/uploads/2025/01/kazachstan.webp
END:VEVENT
BEGIN:VEVENT
DTSTART;TZID=Europe/Paris:20250116T170000
DTEND;TZID=Europe/Paris:20250116T170000
DTSTAMP:20260419T213339
CREATED:20250113T142659Z
LAST-MODIFIED:20250113T144403Z
UID:765-1737046800-1737046800@obec-lubojaty.cz
SUMMARY:Deskohraní v Bítově
DESCRIPTION:Deskoherní klub Bítov vás zve na večery plné zábavy s deskovými hrami. Přijďte si zahrát své oblíbené hry nebo vyzkoušejte některé z našich\, jako jsou Carcassonne\, Talisman nebo Jízdenky\, prosím.  \n\n\n\nAkce je určena pro všechny od 9 do 99 let a koná se 16. a 30. ledna od 17 hodin ve Velkém sále Obecního domu v Bítově.
URL:https://obec-lubojaty.cz/akce/deskohrani-v-bitove/
ATTACH;FMTTYPE=image/jpeg:https://obec-lubojaty.cz/wp-content/uploads/2025/01/deskohrani_bitov.webp
END:VEVENT
BEGIN:VEVENT
DTSTART;TZID=Europe/Paris:20250111T080000
DTEND;TZID=Europe/Paris:20250111T120000
DTSTAMP:20260419T213339
CREATED:20250109T081008Z
LAST-MODIFIED:20250109T081012Z
UID:696-1736582400-1736596800@obec-lubojaty.cz
SUMMARY:Tříkrálová sbírka v Lubojatech
DESCRIPTION:Tříkrálová sbírka v Lubojatech proběhne v sobotu 11. 1. 2025 dopoledne.  \n\n\n\nVšem štědrým dárcům děkujeme.
URL:https://obec-lubojaty.cz/akce/trikralova-sbirka-v-lubojatech/
LOCATION:Lubojaty\, 742 92
ATTACH;FMTTYPE=image/jpeg:https://obec-lubojaty.cz/wp-content/uploads/2025/01/trikralova_sbirka.webp
END:VEVENT
BEGIN:VEVENT
DTSTART;TZID=Europe/Paris:20241224T150000
DTEND;TZID=Europe/Paris:20241224T170000
DTSTAMP:20260419T213339
CREATED:20241222T190830Z
LAST-MODIFIED:20241222T191147Z
UID:667-1735052400-1735059600@obec-lubojaty.cz
SUMMARY:Vánoční mše
DESCRIPTION:Farní společenství Vás zve VÁNOČNÍ MŠI s koledou dětí ze ZŠ a MŠ Lubojaty a s divadélkem připraveným dětmi z farnosti – Daleká je cesta do Betléma. \n\n\n\nVánoční mše se koná na Štědrý den v kostele sv. Jiří od 15:00. \n\n\n\npozvánka na mši ve formátu .png (674 kB)
URL:https://obec-lubojaty.cz/akce/vanocni-mse/
LOCATION:Kostel sv. Jiří\, Lubojaty\, Lubojaty\, 742 92\, Czech Republic
ATTACH;FMTTYPE=image/png:https://obec-lubojaty.cz/wp-content/uploads/2024/12/vanocni_mse_nahled-png.webp
END:VEVENT
BEGIN:VEVENT
DTSTART;TZID=Europe/Paris:20241222T090000
DTEND;TZID=Europe/Paris:20241222T130000
DTSTAMP:20260419T213339
CREATED:20241217T190028Z
LAST-MODIFIED:20241218T101859Z
UID:642-1734858000-1734872400@obec-lubojaty.cz
SUMMARY:Prodej vánočních kaprů
DESCRIPTION:Vážení spoluobčané\, přes prvotní negativní zprávy se nám i letos podařilo zajistit prodej kaprů na vánoční stůl. Prodej proběhne v neděli 22. prosince od 9:00 do 13:00 hodin před budovou Šupiny. \n\n\n\nObjednávku prosím proveďte nejpozději do čtvrtka 19. prosince v úředních hodinách na Obecním úřadě\, a to v pondělí a ve středu 8:00–12:00; 13:00–17:00\, společně se zálohou 200 Kč za kus. \n\n\n\nPozor! Z kapacitních důvodů letos prodáváme ryby pouze živé\, nebo usmrcené\, bez dalšího zpracování. Koupí této ryby zároveň podpoříte chod místního Sdružení rodičů a přátel školy.Přijďte si užít vánoční atmosféru s ohněm a dobrým svařákem. Těšíme se na vás! \n\n\n\npozvánka na akci ve formátu .jpg (129 kB)
URL:https://obec-lubojaty.cz/akce/prodej-vanocnich-kapru/
LOCATION:Šupina\, Těškovice 89\, Těškovice\, 747 64\, Czech Republic
ATTACH;FMTTYPE=image/jpeg:https://obec-lubojaty.cz/wp-content/uploads/2024/12/vanocni-prodej-kapru-nahled.webp
END:VEVENT
BEGIN:VEVENT
DTSTART;TZID=Europe/Helsinki:20241217T150000
DTEND;TZID=Europe/Helsinki:20241217T150000
DTSTAMP:20260419T213339
CREATED:20241016T084710Z
LAST-MODIFIED:20241024T130838Z
UID:264-1734447600-1734447600@obec-lubojaty.cz
SUMMARY:Vánoční slavnosti
DESCRIPTION:ZŠ A MŠ Lubojaty pořádá v úterý 17. prosince 2024 Vánoční slavnosti. \n\nod 15:00 hodin: Den otevřených dveří školy v Lubojatech\nod 15:30 hodin: vystoupení dětí MŠ a žáků ZŠ                          \nod 16:30 hodin: prodejní výstava drobných radostí\, vánoční raut pro všechny a dětský punč pro dobrou náladu \n\nPřijďte s námi prožít příjemné předvánoční chvíle. \nPozvánka ve formátu .pdf (186 kB)
URL:https://obec-lubojaty.cz/akce/vanocni-slavnosti/
LOCATION:ZŠ a MŠ Lubojaty\, č. p. 88\, Lubojaty\, 742 92
ATTACH;FMTTYPE=image/jpeg:https://obec-lubojaty.cz/wp-content/uploads/2024/10/vanocni_slavnosti-e1729064814996.jpg
END:VEVENT
BEGIN:VEVENT
DTSTART;TZID=Europe/Paris:20241207T000000
DTEND;TZID=Europe/Paris:20241207T235959
DTSTAMP:20260419T213339
CREATED:20241114T114140Z
LAST-MODIFIED:20241114T122304Z
UID:574-1733529600-1733615999@obec-lubojaty.cz
SUMMARY:Vánoce na Slezskoostravském hradě 2024
DESCRIPTION:Obec Lubojaty pořádá zájezd pro všechny na akci Vánoce na Slezskoostravském hradě 2024: \n\n\n      \n			\n											\n										\n									\n							\n			\n\n\nsobota 7. prosince 2024\, odjezd v 9:00 z ostravské zastávky\, 9:05 ze Lhotky \n\n\n      \n			\n											\n										\n									\n							\n			\n\n\nPřihlášení do středy 4. prosince 2024 ve škole v Lubojatech\, u paní Z. Neisarové nebo A. Seidlerové. \n\n\n\nPROGRAM: \n\n\n\n\ntradiční výstava betlémů – ukázky práce samotných řezbářů\n\n\n\nvánoční jarmark s doprovodným programem pro děti\n\n\n\n\nPLATBA: \n\n\n\n\ncena dopravy: dospělí 100 Kč\, mládež a děti do 18 let zdarma\n\n\n\nvstupné v předprodeji online: dospělí 110 Kč\, děti od 6 let a senioři od 63 let (včetně) 80 Kč\n\n\n\nvstupné na místě v den akce: dospělí 140 Kč\, děti od 6 let a senioři od 63 let (včetně) 100 Kč\n\n\n\n\n\nVSTUPENKY A VÍCE INFORMACÍ\n\n\n\n\n\n\n\n\npozvánka na akci ve formátu .pdf (4 372 kB)
URL:https://obec-lubojaty.cz/akce/vanoce-na-slezskoostravskem-hrade-2024/
LOCATION:Slezskoostravský hrad\, Hradní 1\, Slezská Ostrava\, 702 00\, Czech Republic
ATTACH;FMTTYPE=image/jpeg:https://obec-lubojaty.cz/wp-content/uploads/2024/11/vanoce_hrad.jpg
END:VEVENT
BEGIN:VEVENT
DTSTART;TZID=Europe/Paris:20241201T170000
DTEND;TZID=Europe/Paris:20241201T170000
DTSTAMP:20260419T213339
CREATED:20241114T124334Z
LAST-MODIFIED:20241114T130228Z
UID:592-1733072400-1733072400@obec-lubojaty.cz
SUMMARY:Rozsvícení vánočního stromu v Lubojatech
DESCRIPTION:Vážení Lubojatští i přespolní! Přijměte naše pozvání na tradiční rozsvícení vánočního stromu v Lubojatech: \n\n\n      \n			\n											\n										\n									\n							\n			\n\n\nv neděli 1. 12. 2024 v 17:00 před budovou osadního výboru \n\n\n\nPředvánoční náladu vykouzlí pěvecký sbor Koťata pod vedením G. Dreslerové a děti ze ZŠ a MŠ Lubojaty. \n\n\n\nPřijďte si užít pohodovou atmosféru první adventní neděle\, zazpívat vánoční písně\, ochutnat dětský punč a tradiční perníčky! \n\n\n\nSrdečně zve Osadní výbor spolu s ostatními složkami! \n\n\n\npozvánka na akci ve formátu .pdf (9 708 kB)
URL:https://obec-lubojaty.cz/akce/rozsviceni-vanocniho-stromu-v-lubojatech/
LOCATION:Budova OV\, Lubojaty 58\, 742 92\, Czech Republic
ATTACH;FMTTYPE=image/jpeg:https://obec-lubojaty.cz/wp-content/uploads/2024/11/vanocni_strom.jpg
END:VEVENT
BEGIN:VEVENT
DTSTART;TZID=Europe/Paris:20241128T150000
DTEND;TZID=Europe/Paris:20241128T170000
DTSTAMP:20260419T213339
CREATED:20241108T090130Z
LAST-MODIFIED:20241122T124514Z
UID:510-1732806000-1732813200@obec-lubojaty.cz
SUMMARY:Vánoční přání pro dobrou věc
DESCRIPTION:Klub slunečnice ve spolupráci se ZŠ Lubojaty vás srdečně zve na výtvarnou dílnu VÁNOČNÍ PŘÁNÍ PRO DOBROU VĚC. \n\nve čtvrtek 28. listopadu 2024\, 15:00–17:00\, budova ZŠ \ns sebou: nůžky\, dobrou náladu a nadšení 🙂\n\nVámi vyrobená vánoční přání rozdáme seniorům v naší farnosti a v rámci Charity Studénka. Zbytek bude na prodej u rozsvícení vánočního stromku u nás v Lubojatech. Výtěžek z prodeje půjde na dobrou věc (opět vybereme nějaký místní projekt). Děti si tu také mohou vyrobit malou drobnost pro radost sobě nebo svým blízkým. Všechno vám ukážeme\, všechno naučíme! \nNEJEN PRO DĚTI\, RODIČE A PRARODIČE\, ALE PRO VŠECHNY! \npozvánka na akci ve formátu .jpg (382 kB)
URL:https://obec-lubojaty.cz/akce/vanocni-prani-pro-dobrou-vec-2024/
LOCATION:ZŠ Lubojaty\, č. p. 88\, Lubojaty\, 742 92
ATTACH;FMTTYPE=image/jpeg:https://obec-lubojaty.cz/wp-content/uploads/2024/11/chritmas_card-e1731056224686.jpg
END:VEVENT
BEGIN:VEVENT
DTSTART;TZID=Europe/Paris:20241116T160000
DTEND;TZID=Europe/Paris:20241116T160000
DTSTAMP:20260419T213339
CREATED:20241106T064217Z
LAST-MODIFIED:20241106T070622Z
UID:502-1731772800-1731772800@obec-lubojaty.cz
SUMMARY:Zabijačkové hody
DESCRIPTION:Přijďte ochutnat výrobky z čuníka\, které si můžete nakoupit i domů\, a posedět s přáteli na desátém ročníku zabijačkových hodů. \npozvánka na akci ve formátu .jpg (41 kB) \n 
URL:https://obec-lubojaty.cz/akce/zabijackove-hody_2024/
LOCATION:hasičská zbrojnice Lubojaty\, Lubojaty 35\, 742 92
ATTACH;FMTTYPE=image/jpeg:https://obec-lubojaty.cz/wp-content/uploads/2024/11/zabijackove_hody_nahled.jpg
END:VEVENT
BEGIN:VEVENT
DTSTART;TZID=Europe/Paris:20241113T153000
DTEND;TZID=Europe/Paris:20241113T153000
DTSTAMP:20260419T213339
CREATED:20241101T130926Z
LAST-MODIFIED:20241101T131220Z
UID:481-1731511800-1731511800@obec-lubojaty.cz
SUMMARY:Veřejná schůze k odvádění odpadních vod
DESCRIPTION:Veřejná schůze s vedením města a zástupci společnosti Fortest ohledně smluv k odvádění odpadních vod kanalizací. \nPřijďte\, týká se našich smluv o odvádění vod. \n\n13. listopadu 2024 v 15:30\nhasičská zbrojnice (Lubojaty 35\, 742 92)
URL:https://obec-lubojaty.cz/akce/verejna-schuze-k-odvadeni-odpadnich-vod/
LOCATION:hasičská zbrojnice Lubojaty\, Lubojaty 35\, 742 92
ATTACH;FMTTYPE=image/png:https://obec-lubojaty.cz/wp-content/uploads/2024/11/schuze_kanalizace.png
END:VEVENT
BEGIN:VEVENT
DTSTART;TZID=Europe/Helsinki:20241109T120000
DTEND;TZID=Europe/Helsinki:20241109T120000
DTSTAMP:20260419T213339
CREATED:20241017T132823Z
LAST-MODIFIED:20241024T131149Z
UID:284-1731153600-1731153600@obec-lubojaty.cz
SUMMARY:Kachní hody
DESCRIPTION:Sportovci Bítov Vás zvou na tradiční kachní hody v sobotu 9. 11. 2024 od 12 hodin v Obecním domě Bítov. Těšit se můžete na: \n\npečenou kachnu\,\n3 druhy knedlíků\,\n2 druhy zelí\,\nčepovanou Plzeň\,\nsladkou tečku.\n\nRezervace nutná do 3. 11. 2024 u Davida Farníka: \n\n730 512 293\nfarnik4@seznam.cz\n\nPozvánka ve formátu .pdf (119 kB)
URL:https://obec-lubojaty.cz/akce/kachni-hody/
LOCATION:Prostory Obecního domu\, č. p. 61\, Bítov
ATTACH;FMTTYPE=image/png:https://obec-lubojaty.cz/wp-content/uploads/2024/10/kachni_hody.png
ORGANIZER;CN="Sportovci B%C3%ADtov":MAILTO:farnik4@seznam.cz
END:VEVENT
END:VCALENDAR