BEGIN:VCALENDAR
VERSION:2.0
PRODID:-//Lubojaty | oficiální web obce Lubojaty - ECPv6.15.20//NONSGML v1.0//EN
CALSCALE:GREGORIAN
METHOD:PUBLISH
X-ORIGINAL-URL:https://obec-lubojaty.cz
X-WR-CALDESC:Akce na Lubojaty | oficiální web obce Lubojaty
REFRESH-INTERVAL;VALUE=DURATION:PT1H
X-Robots-Tag:noindex
X-PUBLISHED-TTL:PT1H
BEGIN:VTIMEZONE
TZID:Europe/Paris
BEGIN:DAYLIGHT
TZOFFSETFROM:+0100
TZOFFSETTO:+0200
TZNAME:CEST
DTSTART:20250330T010000
END:DAYLIGHT
BEGIN:STANDARD
TZOFFSETFROM:+0200
TZOFFSETTO:+0100
TZNAME:CET
DTSTART:20251026T010000
END:STANDARD
BEGIN:DAYLIGHT
TZOFFSETFROM:+0100
TZOFFSETTO:+0200
TZNAME:CEST
DTSTART:20260329T010000
END:DAYLIGHT
BEGIN:STANDARD
TZOFFSETFROM:+0200
TZOFFSETTO:+0100
TZNAME:CET
DTSTART:20261025T010000
END:STANDARD
BEGIN:DAYLIGHT
TZOFFSETFROM:+0100
TZOFFSETTO:+0200
TZNAME:CEST
DTSTART:20270328T010000
END:DAYLIGHT
BEGIN:STANDARD
TZOFFSETFROM:+0200
TZOFFSETTO:+0100
TZNAME:CET
DTSTART:20271031T010000
END:STANDARD
END:VTIMEZONE
BEGIN:VEVENT
DTSTART;TZID=Europe/Paris:20260403T090000
DTEND;TZID=Europe/Paris:20260403T150000
DTSTAMP:20260419T212945
CREATED:20260330T063358Z
LAST-MODIFIED:20260330T063510Z
UID:1305-1775206800-1775228400@obec-lubojaty.cz
SUMMARY:Jarní procházka s pletením pomlázky
DESCRIPTION:Klub Slunečnice při OV Lubojaty Vás srdečně zve na akci JARNÍ PROCHÁZKA S PLETENÍM POMLÁZKY. \n\n\n\n\nVycházíme v pátek 3. dubna 2026 v 9.00 od požární nádrže.  \n\n\n\n\nProgram: \n\n\n\n\nprocházka do Údolí mladých\n\n\n\nsběr prutů\n\n\n\npletení pomlázky u zahrádkářské chaty\n\n\n\n\nKoná se za každého počasí. \n\n\n\nS sebou: \n\n\n\n\nzahradnické nůžky nebo nůž\n\n\n\npláštěnku nebo deštník (dle počasí)
URL:https://obec-lubojaty.cz/akce/jarni-prochazka-s-pletenim-pomlazky/
LOCATION:Lubojaty\, 742 92
END:VEVENT
END:VCALENDAR